BEGIN:VCALENDAR
VERSION:2.0
PRODID:-//Crossroads Sports Complex - ECPv6.15.20//NONSGML v1.0//EN
CALSCALE:GREGORIAN
METHOD:PUBLISH
X-ORIGINAL-URL:https://newlenoxcrossroads.com
X-WR-CALDESC:Events for Crossroads Sports Complex
REFRESH-INTERVAL;VALUE=DURATION:PT1H
X-Robots-Tag:noindex
X-PUBLISHED-TTL:PT1H
BEGIN:VTIMEZONE
TZID:America/Chicago
BEGIN:DAYLIGHT
TZOFFSETFROM:-0600
TZOFFSETTO:-0500
TZNAME:CDT
DTSTART:20250309T080000
END:DAYLIGHT
BEGIN:STANDARD
TZOFFSETFROM:-0500
TZOFFSETTO:-0600
TZNAME:CST
DTSTART:20251102T070000
END:STANDARD
BEGIN:DAYLIGHT
TZOFFSETFROM:-0600
TZOFFSETTO:-0500
TZNAME:CDT
DTSTART:20260308T080000
END:DAYLIGHT
BEGIN:STANDARD
TZOFFSETFROM:-0500
TZOFFSETTO:-0600
TZNAME:CST
DTSTART:20261101T070000
END:STANDARD
BEGIN:DAYLIGHT
TZOFFSETFROM:-0600
TZOFFSETTO:-0500
TZNAME:CDT
DTSTART:20270314T080000
END:DAYLIGHT
BEGIN:STANDARD
TZOFFSETFROM:-0500
TZOFFSETTO:-0600
TZNAME:CST
DTSTART:20271107T070000
END:STANDARD
END:VTIMEZONE
BEGIN:VEVENT
DTSTART;VALUE=DATE:20260314
DTEND;VALUE=DATE:20260316
DTSTAMP:20260421T095747
CREATED:20260205T211957Z
LAST-MODIFIED:20260206T145258Z
UID:4177-1773446400-1773619199@newlenoxcrossroads.com
SUMMARY:ECLIPSE SPRING CLASSIC TOURNAMENT
DESCRIPTION:The Eclipse Select Spring Classic a competitive tournament for local and regional teams and clubs to play quality games in preparation for the spring season. \n8U-19U \n 
URL:https://newlenoxcrossroads.com/event/eclipse-spring-classic-tournament/
CATEGORIES:Soccer
ATTACH;FMTTYPE=image/png:https://newlenoxcrossroads.com/wp-content/uploads/2026/02/Spring-Classic.png
END:VEVENT
BEGIN:VEVENT
DTSTART;VALUE=DATE:20260403
DTEND;VALUE=DATE:20260405
DTSTAMP:20260421T095747
CREATED:20260205T212332Z
LAST-MODIFIED:20260205T213238Z
UID:4201-1775174400-1775347199@newlenoxcrossroads.com
SUMMARY:PG WINDY CITY SPRING KICK-OFF
DESCRIPTION:Join us for the inaugural PG Windy City Spring Kick-Off\, launching the 2026 youth baseball season in style. This 3-game guarantee event welcomes teams in the 9U–14U age range\, with AA\, AAA\, and Open divisions to ensure the right level of play for every squad.
URL:https://newlenoxcrossroads.com/event/pg-windy-city-spring-kick-off/
CATEGORIES:Baseball
ATTACH;FMTTYPE=image/png:https://newlenoxcrossroads.com/wp-content/uploads/2026/02/Windy-City.png
END:VEVENT
BEGIN:VEVENT
DTSTART;VALUE=DATE:20260403
DTEND;VALUE=DATE:20260406
DTSTAMP:20260421T095747
CREATED:20260403T153904Z
LAST-MODIFIED:20250226T170402Z
UID:3363-1775174400-1775433599@newlenoxcrossroads.com
SUMMARY:Great Lakes Spring Season Opener
DESCRIPTION:
URL:https://newlenoxcrossroads.com/event/great-lakes-spring-season-opener/
END:VEVENT
BEGIN:VEVENT
DTSTART;VALUE=DATE:20260410
DTEND;VALUE=DATE:20260413
DTSTAMP:20260421T095747
CREATED:20251104T164037Z
LAST-MODIFIED:20251104T164319Z
UID:4123-1775779200-1776038399@newlenoxcrossroads.com
SUMMARY:PRE-SEASON CHAMPIONSHIPS-BASEBALL
DESCRIPTION:Age divisions: 8U-14U
URL:https://newlenoxcrossroads.com/event/pre-season-championships/
ATTACH;FMTTYPE=image/png:https://newlenoxcrossroads.com/wp-content/uploads/2025/11/PreSeasonChampionships-scaled.png
END:VEVENT
BEGIN:VEVENT
DTSTART;VALUE=DATE:20260410
DTEND;VALUE=DATE:20260413
DTSTAMP:20260421T095747
CREATED:20251104T164256Z
LAST-MODIFIED:20251104T164256Z
UID:4126-1775779200-1776038399@newlenoxcrossroads.com
SUMMARY:PRE-SEASON CHAMPIONSHIPS-SOFTBALL
DESCRIPTION:Age divisions: 10U-14U
URL:https://newlenoxcrossroads.com/event/pre-season-championships-softball/
ATTACH;FMTTYPE=image/png:https://newlenoxcrossroads.com/wp-content/uploads/2025/11/PreSeasonChampionships-scaled.png
END:VEVENT
BEGIN:VEVENT
DTSTART;VALUE=DATE:20260417
DTEND;VALUE=DATE:20260420
DTSTAMP:20260421T095747
CREATED:20260205T213542Z
LAST-MODIFIED:20260205T213542Z
UID:4203-1776384000-1776643199@newlenoxcrossroads.com
SUMMARY:42 LEGEND USSSA SELECT SUPER NIT-CHICAGOLAND
DESCRIPTION:Celebrate the legacy of Jackie Robinson at the 42 Legend USSSA Select Super NIT! This premier event honors one of baseball’s greatest legends while giving teams the opportunity to compete at the highest level. \n8U-14U
URL:https://newlenoxcrossroads.com/event/42-legend-usssa-select-super-nit-chicagoland/
CATEGORIES:Baseball
ATTACH;FMTTYPE=image/png:https://newlenoxcrossroads.com/wp-content/uploads/2026/02/USSSA.png
END:VEVENT
BEGIN:VEVENT
DTSTART;VALUE=DATE:20260417
DTEND;VALUE=DATE:20260420
DTSTAMP:20260421T095747
CREATED:20260417T154137Z
LAST-MODIFIED:20250226T170458Z
UID:3367-1776384000-1776643199@newlenoxcrossroads.com
SUMMARY:USSSA Baseball & Softball National Invitational Tournament
DESCRIPTION:
URL:https://newlenoxcrossroads.com/event/usssa-baseball-softball-national-invitational-tournament/
END:VEVENT
BEGIN:VEVENT
DTSTART;VALUE=DATE:20260424
DTEND;VALUE=DATE:20260427
DTSTAMP:20260421T095747
CREATED:20260205T213812Z
LAST-MODIFIED:20260205T214026Z
UID:4204-1776988800-1777247999@newlenoxcrossroads.com
SUMMARY:PG WINDY CITY SUPER REGIONAL NIT
DESCRIPTION:Get ready for the inaugural PG Windy City Super Regional NIT! This National Invitational Tournament brings top talent together from across the region and beyond. \nThis high-profile\, 3-game guarantee tournament runs from April 24–26 and is open to teams in the 9U–14U age divisions\, with AA\, AAA\, and Open levels of play.
URL:https://newlenoxcrossroads.com/event/pg-windy-city-super-regional-nit/
CATEGORIES:Baseball
ATTACH;FMTTYPE=image/png:https://newlenoxcrossroads.com/wp-content/uploads/2026/02/Super-Regional-NIT.png
END:VEVENT
BEGIN:VEVENT
DTSTART;VALUE=DATE:20260501
DTEND;VALUE=DATE:20260504
DTSTAMP:20260421T095747
CREATED:20260205T213947Z
LAST-MODIFIED:20260205T213947Z
UID:4205-1777593600-1777852799@newlenoxcrossroads.com
SUMMARY:PG WINDY CITY WORLD SERIES
DESCRIPTION:Step onto the national stage at the inaugural PG Windy City World Series — a marquee event designed to bring together elite youth baseball talent from across the Midwest. Taking place May 1–3\, this event welcomes teams in the 9U–14U divisions\, with AA\, AAA\, and Open levels to ensure competitive balance for every program.
URL:https://newlenoxcrossroads.com/event/pg-windy-city-world-series/
CATEGORIES:Baseball
ATTACH;FMTTYPE=image/png:https://newlenoxcrossroads.com/wp-content/uploads/2026/02/Regional-World-Series.png
END:VEVENT
BEGIN:VEVENT
DTSTART;VALUE=DATE:20260508
DTEND;VALUE=DATE:20260511
DTSTAMP:20260421T095747
CREATED:20251104T164447Z
LAST-MODIFIED:20260205T214222Z
UID:4127-1778198400-1778457599@newlenoxcrossroads.com
SUMMARY:IL SILVER STATE CHAMPIONSHIPS (SPRING) - ALL STATES WELCOME
DESCRIPTION:Silver State Championships events allow for more parity than Open tournaments\, and allow D2 and D3 level teams to have a greater opportunity to advance to bracket play and bring hardware back to their hometowns. \nAge divisions:  8U-14U 
URL:https://newlenoxcrossroads.com/event/il-silver-state-championships-spring-all-states-welcome/
CATEGORIES:Baseball
ATTACH;FMTTYPE=image/png:https://newlenoxcrossroads.com/wp-content/uploads/2025/11/SilverState.png
END:VEVENT
BEGIN:VEVENT
DTSTART;VALUE=DATE:20260515
DTEND;VALUE=DATE:20260518
DTSTAMP:20260421T095747
CREATED:20251104T164806Z
LAST-MODIFIED:20251104T164806Z
UID:4128-1778803200-1779062399@newlenoxcrossroads.com
SUMMARY: IL OPEN STATE CHAMPIONSHIPS (SPRING) - ALL STATES WELCOME
DESCRIPTION:Age divisions: 8U-14U
URL:https://newlenoxcrossroads.com/event/il-open-state-championships-spring-all-states-welcome/
ATTACH;FMTTYPE=image/jpeg:https://newlenoxcrossroads.com/wp-content/uploads/2025/11/OpenState-scaled.jpg
END:VEVENT
BEGIN:VEVENT
DTSTART;VALUE=DATE:20260515
DTEND;VALUE=DATE:20260518
DTSTAMP:20260421T095747
CREATED:20251104T164945Z
LAST-MODIFIED:20251104T164945Z
UID:4130-1778803200-1779062399@newlenoxcrossroads.com
SUMMARY:IL OPEN STATE CHAMPIONSHIPS (SPRING) - ALL STATES WELCOME SOFTBALL
DESCRIPTION:10U-14U
URL:https://newlenoxcrossroads.com/event/il-open-state-championships-spring-all-states-welcome-softball/
ATTACH;FMTTYPE=image/jpeg:https://newlenoxcrossroads.com/wp-content/uploads/2025/11/OpenState-scaled.jpg
END:VEVENT
BEGIN:VEVENT
DTSTART;VALUE=DATE:20260522
DTEND;VALUE=DATE:20260525
DTSTAMP:20260421T095747
CREATED:20260205T214511Z
LAST-MODIFIED:20260205T214511Z
UID:4207-1779408000-1779667199@newlenoxcrossroads.com
SUMMARY:PG WINDY CITY MEMORIAL DAY CLASSIC
DESCRIPTION:Celebrate Memorial Day Weekend with top-tier baseball at the inaugural PG Windy City Memorial Day Classic! Held May 22–24\, this tournament is open to 9U–14U teams across AA\, AAA\, and Open divisions\, offering a competitive and balanced playing field for all levels.
URL:https://newlenoxcrossroads.com/event/pg-windy-city-memorial-day-classic/
CATEGORIES:Baseball
ATTACH;FMTTYPE=image/png:https://newlenoxcrossroads.com/wp-content/uploads/2026/02/Memorial-Day.png
END:VEVENT
BEGIN:VEVENT
DTSTART;VALUE=DATE:20260529
DTEND;VALUE=DATE:20260601
DTSTAMP:20260421T095747
CREATED:20260205T214641Z
LAST-MODIFIED:20260205T214641Z
UID:4208-1780012800-1780271999@newlenoxcrossroads.com
SUMMARY:PG BATTLE FOR THE WINDY CITY
DESCRIPTION:The stage is set for an epic showdown in the Midwest — introducing the inaugural PG Battle for the Windy City! This exciting new event brings together teams from across the region for a high-energy\, high-stakes tournament. \nHeld May 29–31\, this 3-game guarantee tournament is open to age divisions 9U through 17U.
URL:https://newlenoxcrossroads.com/event/pg-battle-for-the-windy-city/
CATEGORIES:Baseball
ATTACH;FMTTYPE=image/png:https://newlenoxcrossroads.com/wp-content/uploads/2026/02/Windy-city-2.png
END:VEVENT
BEGIN:VEVENT
DTSTART;VALUE=DATE:20260604
DTEND;VALUE=DATE:20260608
DTSTAMP:20260421T095747
CREATED:20251104T165217Z
LAST-MODIFIED:20251104T165217Z
UID:4131-1780531200-1780876799@newlenoxcrossroads.com
SUMMARY:CHICAGOLAND GRAND CHAMPIONSHIPS - 4 GAMES GUARANTEED
DESCRIPTION:Age divisions:  8U-15U
URL:https://newlenoxcrossroads.com/event/chicagoland-grand-championships-4-games-guaranteed/
ATTACH;FMTTYPE=image/png:https://newlenoxcrossroads.com/wp-content/uploads/2025/11/ChicagolandGrand-scaled.png
END:VEVENT
BEGIN:VEVENT
DTSTART;VALUE=DATE:20260611
DTEND;VALUE=DATE:20260615
DTSTAMP:20260421T095747
CREATED:20250226T164911Z
LAST-MODIFIED:20250226T170948Z
UID:3384-1781136000-1781481599@newlenoxcrossroads.com
SUMMARY:Great Lakes Elite Championships
DESCRIPTION:
URL:https://newlenoxcrossroads.com/event/great-lakes-elite-championships/
END:VEVENT
BEGIN:VEVENT
DTSTART;VALUE=DATE:20260611
DTEND;VALUE=DATE:20260615
DTSTAMP:20260421T095747
CREATED:20260205T214911Z
LAST-MODIFIED:20260205T214911Z
UID:4209-1781136000-1781481599@newlenoxcrossroads.com
SUMMARY:PG COLLEGE INSTRUCTIONAL SERIES (GREAT LAKES)
DESCRIPTION:The College Instructional Series Camp provides direct instructional opportunities for players by placing them in front of targeted (non-Division I) college coaches\, who are staffed by PG to oversee on-field aspects of the event. The camp will provide opportunities for players to get first-class instruction and repetitions from active college coaches. \n16U-18U
URL:https://newlenoxcrossroads.com/event/pg-college-instructional-series-great-lakes/
CATEGORIES:Baseball
ATTACH;FMTTYPE=image/png:https://newlenoxcrossroads.com/wp-content/uploads/2026/02/College-instructional.png
END:VEVENT
BEGIN:VEVENT
DTSTART;VALUE=DATE:20260612
DTEND;VALUE=DATE:20260616
DTSTAMP:20260421T095747
CREATED:20260205T215114Z
LAST-MODIFIED:20260205T215114Z
UID:4210-1781222400-1781567999@newlenoxcrossroads.com
SUMMARY:PG WINDY CITY ELITE CHAMPIONSHIP
DESCRIPTION:Introducing the inaugural Windy City Elite Championship — a high-level tournament built for top programs ready to compete on one of the Midwest’s finest stages. This elite event brings together premier 13U–16U teams for four days of top-tier baseball action.
URL:https://newlenoxcrossroads.com/event/pg-windy-city-elite-championship/
CATEGORIES:Baseball
ATTACH;FMTTYPE=image/png:https://newlenoxcrossroads.com/wp-content/uploads/2026/02/Windy-city-2.png
END:VEVENT
BEGIN:VEVENT
DTSTART;VALUE=DATE:20260612
DTEND;VALUE=DATE:20260616
DTSTAMP:20260421T095747
CREATED:20260205T215246Z
LAST-MODIFIED:20260205T215246Z
UID:4211-1781222400-1781567999@newlenoxcrossroads.com
SUMMARY:PG ULTIMATE BASEBALL CHAMPIONSHIP-MIDWEST x ATLANTIC
DESCRIPTION:The battle for regional supremacy returns in 2026 as the 14U Ultimate Baseball Championship – Midwest x Atlantic. Now in its second year\, this premier 14U event brings together the top-tier programs and elite athletes from the Midwest and Mid-Atlantic regions\, creating a high-stakes platform for rising stars to showcase their abilities on a world-class stage.
URL:https://newlenoxcrossroads.com/event/pg-ultimate-baseball-championship-midwest-x-atlantic/
CATEGORIES:Baseball
ATTACH;FMTTYPE=image/png:https://newlenoxcrossroads.com/wp-content/uploads/2026/02/Ultimate-Baseball.png
END:VEVENT
BEGIN:VEVENT
DTSTART;VALUE=DATE:20260617
DTEND;VALUE=DATE:20260622
DTSTAMP:20260421T095747
CREATED:20251104T165352Z
LAST-MODIFIED:20260205T215335Z
UID:4133-1781654400-1782086399@newlenoxcrossroads.com
SUMMARY:YOUTH WORLD SERIES - CHICAGOLAND
DESCRIPTION:Age divisions: 9U-16U
URL:https://newlenoxcrossroads.com/event/youth-world-series-chicagoland/
CATEGORIES:Baseball
ATTACH;FMTTYPE=image/png:https://newlenoxcrossroads.com/wp-content/uploads/2025/11/YouthWorldSeries-scaled.png
END:VEVENT
BEGIN:VEVENT
DTSTART;VALUE=DATE:20260617
DTEND;VALUE=DATE:20260622
DTSTAMP:20260421T095747
CREATED:20260305T162306Z
LAST-MODIFIED:20260305T162330Z
UID:4310-1781654400-1782086399@newlenoxcrossroads.com
SUMMARY:SOFTBALL WORLD SERIES - CHICAGOLAND
DESCRIPTION:Age divisions: 10U-18U
URL:https://newlenoxcrossroads.com/event/world-softball-series-chicagoland/
ATTACH;FMTTYPE=image/png:https://newlenoxcrossroads.com/wp-content/uploads/2025/11/SoftballWorldSeries.png
END:VEVENT
BEGIN:VEVENT
DTSTART;VALUE=DATE:20260622
DTEND;VALUE=DATE:20260625
DTSTAMP:20260421T095747
CREATED:20251104T170022Z
LAST-MODIFIED:20251104T170022Z
UID:4140-1782086400-1782345599@newlenoxcrossroads.com
SUMMARY:USA BASEBALL - MIDWEST PROSPECT GAMES - INVITATION ONLY
DESCRIPTION:Age divisions:  11U-16U \nEmail midwest@usabaseballntis.com for invitation details.
URL:https://newlenoxcrossroads.com/event/usa-baseball-midwest-prospect-games-invitation-only/
ATTACH;FMTTYPE=image/png:https://newlenoxcrossroads.com/wp-content/uploads/2025/11/USABaseball.png
END:VEVENT
BEGIN:VEVENT
DTSTART;VALUE=DATE:20260625
DTEND;VALUE=DATE:20260629
DTSTAMP:20260421T095747
CREATED:20251104T165516Z
LAST-MODIFIED:20260205T215558Z
UID:4135-1782345600-1782691199@newlenoxcrossroads.com
SUMMARY:SILVER WORLD SERIES - NO ELITE TEAMS
DESCRIPTION:Age divisions: 8U-15U
URL:https://newlenoxcrossroads.com/event/silver-world-series-no-elite-teams/
CATEGORIES:Baseball
ATTACH;FMTTYPE=image/jpeg:https://newlenoxcrossroads.com/wp-content/uploads/2025/11/SilverWorldSeries.jpg
END:VEVENT
BEGIN:VEVENT
DTSTART;VALUE=DATE:20260629
DTEND;VALUE=DATE:20260703
DTSTAMP:20260421T095747
CREATED:20251104T165714Z
LAST-MODIFIED:20260205T215735Z
UID:4136-1782691200-1783036799@newlenoxcrossroads.com
SUMMARY:CHICAGOLAND BASEBALL EXPERIENCE - CUBS/SOX IN TOWN
DESCRIPTION:Age divisions: 8U-15U
URL:https://newlenoxcrossroads.com/event/chicagoland-baseball-experience-cubs-sox-in-town/
CATEGORIES:Baseball
ATTACH;FMTTYPE=image/png:https://newlenoxcrossroads.com/wp-content/uploads/2025/11/ChicagolandBaseball-scaled.png
END:VEVENT
BEGIN:VEVENT
DTSTART;VALUE=DATE:20260629
DTEND;VALUE=DATE:20260703
DTSTAMP:20260421T095747
CREATED:20251104T165829Z
LAST-MODIFIED:20251104T165829Z
UID:4139-1782691200-1783036799@newlenoxcrossroads.com
SUMMARY:CHICAGOLAND SOFTBALL EXPERIENCE - CUBS/SOX IN TOWN
DESCRIPTION:Age divisions: 10U-18U
URL:https://newlenoxcrossroads.com/event/chicagoland-softball-experience-cubs-sox-in-town/
ATTACH;FMTTYPE=image/png:https://newlenoxcrossroads.com/wp-content/uploads/2025/11/ChicagolandSoftball-scaled.png
END:VEVENT
BEGIN:VEVENT
DTSTART;VALUE=DATE:20260703
DTEND;VALUE=DATE:20260706
DTSTAMP:20260421T095747
CREATED:20260205T215845Z
LAST-MODIFIED:20260205T220006Z
UID:4212-1783036800-1783295999@newlenoxcrossroads.com
SUMMARY:PG WINDY CITY INVITATIONAL
DESCRIPTION:Formerly known as the Heartland Independence Day Classic\, this second-year event expands in a big way by adding 13U and 14U divisions to last year’s 15U–17U lineup\, creating a deeper and more dynamic field of competition. \n14U-17U
URL:https://newlenoxcrossroads.com/event/pg-windy-city-invitational/
CATEGORIES:Baseball
ATTACH;FMTTYPE=image/png:https://newlenoxcrossroads.com/wp-content/uploads/2026/02/Windy-city-2.png
END:VEVENT
BEGIN:VEVENT
DTSTART;VALUE=DATE:20260709
DTEND;VALUE=DATE:20260714
DTSTAMP:20260421T095747
CREATED:20260205T220139Z
LAST-MODIFIED:20260205T220139Z
UID:4213-1783555200-1783987199@newlenoxcrossroads.com
SUMMARY:PG WWBA MIDWEST CHAMPIONSHIP
DESCRIPTION:The road to greatness runs through the Midwest. Join us for the WWBA Midwest Championship\, a premier regional championship in Perfect Game’s signature WWBA event series. This championship brings top programs and elite prospects together for a true summer proving ground. \n16U\, 18U
URL:https://newlenoxcrossroads.com/event/pg-wwba-midwest-championship/
CATEGORIES:Baseball
ATTACH;FMTTYPE=image/png:https://newlenoxcrossroads.com/wp-content/uploads/2026/02/WWBA.png
END:VEVENT
BEGIN:VEVENT
DTSTART;VALUE=DATE:20260710
DTEND;VALUE=DATE:20260714
DTSTAMP:20260421T095747
CREATED:20260205T220322Z
LAST-MODIFIED:20260205T220322Z
UID:4214-1783641600-1783987199@newlenoxcrossroads.com
SUMMARY:BCS MIDWEST CHAMPIONSHIP
DESCRIPTION:This tournament is built for elite programs looking to compete in a championship-style format at a premier Midwest venue. After a successful debut\, the event is returning its 13U and 14U divisions and expanding to include 15U\, making this year’s championship even more competitive and comprehensive.
URL:https://newlenoxcrossroads.com/event/bcs-midwest-championship/
CATEGORIES:Baseball
ATTACH;FMTTYPE=image/png:https://newlenoxcrossroads.com/wp-content/uploads/2026/02/BCS.png
END:VEVENT
BEGIN:VEVENT
DTSTART;VALUE=DATE:20260716
DTEND;VALUE=DATE:20260721
DTSTAMP:20260421T095747
CREATED:20260205T220505Z
LAST-MODIFIED:20260205T220505Z
UID:4215-1784160000-1784591999@newlenoxcrossroads.com
SUMMARY:PG ULTIMATE BASEBALL CHAMPIONSHIP MIDWEST X ATLANTIC
DESCRIPTION:The battle for regional supremacy returns in 2026 as the 16U Ultimate Baseball Championship – Midwest x Atlantic. Now in its second year\, this premier 16U event brings together the top-tier programs and elite athletes from the Midwest and Mid-Atlantic regions\, creating a high-stakes platform for rising stars to showcase their abilities on a world-class stage.
URL:https://newlenoxcrossroads.com/event/pg-ultimate-baseball-championship-midwest-x-atlantic-2/
CATEGORIES:Baseball
ATTACH;FMTTYPE=image/png:https://newlenoxcrossroads.com/wp-content/uploads/2026/02/Ultimate-Baseball.png
END:VEVENT
BEGIN:VEVENT
DTSTART;VALUE=DATE:20260716
DTEND;VALUE=DATE:20260721
DTSTAMP:20260421T095747
CREATED:20260205T220640Z
LAST-MODIFIED:20260205T220837Z
UID:4216-1784160000-1784591999@newlenoxcrossroads.com
SUMMARY:PG WINDY CITY SUMMER SHOWDOWN 15U-17U
DESCRIPTION:The summer ends where the competition peaks — at the second annual Windy City Summer Showdown\, the final stop of the Perfect Game Chicagoland Summer Circuit.  The Windy City Summer Showdown offers a high-level platform for athletes to close out their summer season against elite competition. \n15U-17U
URL:https://newlenoxcrossroads.com/event/pg-windy-city-summer-showdown/
CATEGORIES:Baseball
ATTACH;FMTTYPE=image/png:https://newlenoxcrossroads.com/wp-content/uploads/2026/02/Windy-city-2.png
END:VEVENT
END:VCALENDAR