BEGIN:VCALENDAR
VERSION:2.0
PRODID:-//Crossroads Sports Complex - ECPv6.15.20//NONSGML v1.0//EN
CALSCALE:GREGORIAN
METHOD:PUBLISH
X-WR-CALNAME:Crossroads Sports Complex
X-ORIGINAL-URL:https://newlenoxcrossroads.com
X-WR-CALDESC:Events for Crossroads Sports Complex
REFRESH-INTERVAL;VALUE=DURATION:PT1H
X-Robots-Tag:noindex
X-PUBLISHED-TTL:PT1H
BEGIN:VTIMEZONE
TZID:America/Chicago
BEGIN:DAYLIGHT
TZOFFSETFROM:-0600
TZOFFSETTO:-0500
TZNAME:CDT
DTSTART:20240310T080000
END:DAYLIGHT
BEGIN:STANDARD
TZOFFSETFROM:-0500
TZOFFSETTO:-0600
TZNAME:CST
DTSTART:20241103T070000
END:STANDARD
BEGIN:DAYLIGHT
TZOFFSETFROM:-0600
TZOFFSETTO:-0500
TZNAME:CDT
DTSTART:20250309T080000
END:DAYLIGHT
BEGIN:STANDARD
TZOFFSETFROM:-0500
TZOFFSETTO:-0600
TZNAME:CST
DTSTART:20251102T070000
END:STANDARD
BEGIN:DAYLIGHT
TZOFFSETFROM:-0600
TZOFFSETTO:-0500
TZNAME:CDT
DTSTART:20260308T080000
END:DAYLIGHT
BEGIN:STANDARD
TZOFFSETFROM:-0500
TZOFFSETTO:-0600
TZNAME:CST
DTSTART:20261101T070000
END:STANDARD
END:VTIMEZONE
BEGIN:VEVENT
DTSTART;VALUE=DATE:20251025
DTEND;VALUE=DATE:20251027
DTSTAMP:20260421T113212
CREATED:20250404T094629Z
LAST-MODIFIED:20250404T094629Z
UID:3603-1761350400-1761523199@newlenoxcrossroads.com
SUMMARY:2025 LAX Events Cow Tipper Tournament
DESCRIPTION:Cow tipping is no longer just horseplay\, it’s for laxers who want to get some play in before the winter starts. \nUS Lax Events Cow Tipper Tournament is the last chance to hit the field before winter takes over\, bringing fierce competition\, fall vibes\, and a little Midwest grit. Grab your gear\, round up your squad\, and tip the scales in your favor!
URL:https://newlenoxcrossroads.com/event/2025-lax-events-cow-tipper-tournament/
ATTACH;FMTTYPE=image/png:https://newlenoxcrossroads.com/wp-content/uploads/2025/04/2025-LAX-Events-Cow-Tipper-Tournament.png
END:VEVENT
BEGIN:VEVENT
DTSTART;VALUE=DATE:20251024
DTEND;VALUE=DATE:20251027
DTSTAMP:20260421T113212
CREATED:20250226T163808Z
LAST-MODIFIED:20250226T163808Z
UID:3360-1761264000-1761523199@newlenoxcrossroads.com
SUMMARY:Midwest Championships
DESCRIPTION:
URL:https://newlenoxcrossroads.com/event/midwest-championships/
END:VEVENT
BEGIN:VEVENT
DTSTART;VALUE=DATE:20251017
DTEND;VALUE=DATE:20251020
DTSTAMP:20260421T113212
CREATED:20250404T094649Z
LAST-MODIFIED:20250404T094649Z
UID:3602-1760659200-1760918399@newlenoxcrossroads.com
SUMMARY:2025 PG Heartland Fall Finale
DESCRIPTION:Don’t miss your final chance of 2025! Perfect Game USA’s upcoming tournament is the last opportunity this year to showcase your skills before college and MLB scouts. Register now to compete against top talent\, boost your player profile\, and end the season strong. This is it – seize the moment and make it count!
URL:https://newlenoxcrossroads.com/event/2025-pg-heartland-fall-finale/
ATTACH;FMTTYPE=image/jpeg:https://newlenoxcrossroads.com/wp-content/uploads/2025/04/2025-PG-Heartland-Fall-Finale.jpg
END:VEVENT
BEGIN:VEVENT
DTSTART;VALUE=DATE:20251017
DTEND;VALUE=DATE:20251020
DTSTAMP:20260421T113212
CREATED:20250226T163708Z
LAST-MODIFIED:20250226T163708Z
UID:3358-1760659200-1760918399@newlenoxcrossroads.com
SUMMARY:Windy City Fall Finale
DESCRIPTION:
URL:https://newlenoxcrossroads.com/event/windy-city-fall-finale-2/
END:VEVENT
BEGIN:VEVENT
DTSTART;VALUE=DATE:20251010
DTEND;VALUE=DATE:20251013
DTSTAMP:20260421T113212
CREATED:20250404T094713Z
LAST-MODIFIED:20250404T094713Z
UID:3601-1760054400-1760313599@newlenoxcrossroads.com
SUMMARY:2025 PG Heartland Fall Championship
DESCRIPTION:Ready to take your baseball career to the next level? Perfect Game USA is the nation’s top showcase for amateur talent\, attracting college and MLB scouts. Register today to compete in elite tournaments\, get evaluated by industry experts\, and join a vast network of aspiring players. Don’t let this opportunity pass you by – sign up and show them what you’re made of!
URL:https://newlenoxcrossroads.com/event/2025-pg-heartland-fall-championship/
ATTACH;FMTTYPE=image/jpeg:https://newlenoxcrossroads.com/wp-content/uploads/2025/04/2025-PG-Heartland-Fall-Championship.jpg
END:VEVENT
BEGIN:VEVENT
DTSTART;VALUE=DATE:20251010
DTEND;VALUE=DATE:20251013
DTSTAMP:20260421T113212
CREATED:20250226T163619Z
LAST-MODIFIED:20250226T163619Z
UID:3356-1760054400-1760313599@newlenoxcrossroads.com
SUMMARY:Windy City Fall Finale
DESCRIPTION:
URL:https://newlenoxcrossroads.com/event/windy-city-fall-finale/
END:VEVENT
BEGIN:VEVENT
DTSTART;VALUE=DATE:20251003
DTEND;VALUE=DATE:20251006
DTSTAMP:20260421T113212
CREATED:20250404T094733Z
LAST-MODIFIED:20250404T094733Z
UID:3600-1759449600-1759708799@newlenoxcrossroads.com
SUMMARY:2025 PG Heartland Fall Invitational
DESCRIPTION:Dreaming of playing college or pro baseball? Perfect Game USA is your launchpad. Their elite showcases and tournaments put your skills directly in front of top scouts. Register now to gain exposure\, compete against the best\, and access their comprehensive player database. Don’t just play the game\, get seen by the right people.
URL:https://newlenoxcrossroads.com/event/2025-pg-heartland-fall-invitational/
ATTACH;FMTTYPE=image/jpeg:https://newlenoxcrossroads.com/wp-content/uploads/2025/04/2025-PG-Heartland-Fall-Invitational.jpg
END:VEVENT
BEGIN:VEVENT
DTSTART;VALUE=DATE:20251003
DTEND;VALUE=DATE:20251004
DTSTAMP:20260421T113212
CREATED:20250226T163515Z
LAST-MODIFIED:20250226T163515Z
UID:3354-1759449600-1759535999@newlenoxcrossroads.com
SUMMARY:Great Lakes Fall Invitational
DESCRIPTION:
URL:https://newlenoxcrossroads.com/event/great-lakes-fall-invitational/
END:VEVENT
BEGIN:VEVENT
DTSTART;VALUE=DATE:20250926
DTEND;VALUE=DATE:20250929
DTSTAMP:20260421T113212
CREATED:20250404T094415Z
LAST-MODIFIED:20250404T094415Z
UID:3599-1758844800-1759103999@newlenoxcrossroads.com
SUMMARY:2025 PG Heartland Champions Cup
DESCRIPTION:As the fall baseball season approaches\, elevate your game with Perfect Game USA. Their showcases and tournaments offer unparalleled exposure to college and professional scouts. Don’t let this crucial opportunity slip away – register now to compete against top talent\, build your player profile\, and make your mark before the next level.
URL:https://newlenoxcrossroads.com/event/2025-pg-heartland-champions-cup/
ATTACH;FMTTYPE=image/png:https://newlenoxcrossroads.com/wp-content/uploads/2025/04/2025-PG-Heartland-Champions-Cup.png
END:VEVENT
BEGIN:VEVENT
DTSTART;VALUE=DATE:20250926
DTEND;VALUE=DATE:20250929
DTSTAMP:20260421T113212
CREATED:20250226T163412Z
LAST-MODIFIED:20250226T163412Z
UID:3352-1758844800-1759103999@newlenoxcrossroads.com
SUMMARY:Great Lakes Fall World Series
DESCRIPTION:
URL:https://newlenoxcrossroads.com/event/great-lakes-fall-world-series/
END:VEVENT
BEGIN:VEVENT
DTSTART;VALUE=DATE:20250919
DTEND;VALUE=DATE:20250922
DTSTAMP:20260421T113212
CREATED:20250404T094253Z
LAST-MODIFIED:20250813T141228Z
UID:3598-1758240000-1758499199@newlenoxcrossroads.com
SUMMARY:2025 PG Heartland Fall Classic
DESCRIPTION:Perfect Game USA is the premier platform for aspiring amateur baseball players\, offering unparalleled scouting opportunities and high-level tournaments. Register now to showcase your skills before college and professional scouts\, and gain access to their extensive player database. Don’t miss your chance to elevate your game and connect with the future of baseball.
URL:https://newlenoxcrossroads.com/event/2025-pg-heartland-fall-classic/
ATTACH;FMTTYPE=image/jpeg:https://newlenoxcrossroads.com/wp-content/uploads/2025/04/2025-PG-Heartland-Fall-Classic.jpg
END:VEVENT
BEGIN:VEVENT
DTSTART;VALUE=DATE:20250919
DTEND;VALUE=DATE:20250922
DTSTAMP:20260421T113212
CREATED:20250226T163205Z
LAST-MODIFIED:20250226T163307Z
UID:3349-1758240000-1758499199@newlenoxcrossroads.com
SUMMARY:Great Lakes Fall World Series
DESCRIPTION:
URL:https://newlenoxcrossroads.com/event/tba-5/
END:VEVENT
BEGIN:VEVENT
DTSTART;VALUE=DATE:20250912
DTEND;VALUE=DATE:20250915
DTSTAMP:20260421T113212
CREATED:20250404T095914Z
LAST-MODIFIED:20250404T095914Z
UID:3631-1757635200-1757894399@newlenoxcrossroads.com
SUMMARY:2025 PG Heartland Fall Open
DESCRIPTION:Perfect Game USA is a leading organization in amateur baseball\, specializing in scouting and player development. They organize high-profile showcases and tournaments that attract college and professional scouts\, providing a crucial platform for evaluating young talent. Their comprehensive database and scouting network play a significant role in connecting aspiring players with opportunities at higher levels of the sport.
URL:https://newlenoxcrossroads.com/event/2025-pg-heartland-fall-open/
ATTACH;FMTTYPE=image/png:https://newlenoxcrossroads.com/wp-content/uploads/2025/04/2025-PG-Heartland-Fall-Open.png
END:VEVENT
BEGIN:VEVENT
DTSTART;VALUE=DATE:20250905
DTEND;VALUE=DATE:20250908
DTSTAMP:20260421T113212
CREATED:20250404T093343Z
LAST-MODIFIED:20250404T093343Z
UID:3596-1757030400-1757289599@newlenoxcrossroads.com
SUMMARY:2025 PG Showcase
DESCRIPTION:You’re not just registering for an event; you’re investing in your future\, putting yourself in front of the eyes that truly matter. Perfect Game isn’t just a company; it’s a launchpad\, a community\, and your shot at baseball immortality. Don’t just play the game\, dominate it. Register with Perfect Game\, and let them show the world what you’re made of!
URL:https://newlenoxcrossroads.com/event/2025-pg-showcase/
ATTACH;FMTTYPE=image/jpeg:https://newlenoxcrossroads.com/wp-content/uploads/2025/04/2025-PG-Showcase.jpg
END:VEVENT
BEGIN:VEVENT
DTSTART;VALUE=DATE:20250830
DTEND;VALUE=DATE:20250901
DTSTAMP:20260421T113212
CREATED:20250404T092823Z
LAST-MODIFIED:20250404T092823Z
UID:3595-1756512000-1756684799@newlenoxcrossroads.com
SUMMARY:Sks Sports/One Nation Coed
DESCRIPTION:A draft-style tournament involves teams formed through a selection process where participants are individually chosen\, rather than pre-existing teams competing. This method aims to balance team strength and introduce strategic decision-making during the player selection phase\, leading to unpredictable and engaging competition.
URL:https://newlenoxcrossroads.com/event/sks-sports-one-nation-coed/
ATTACH;FMTTYPE=image/jpeg:https://newlenoxcrossroads.com/wp-content/uploads/2025/04/Sks-SportsOne-Nation-Coed.jpg
END:VEVENT
BEGIN:VEVENT
DTSTART;VALUE=DATE:20250815
DTEND;VALUE=DATE:20250818
DTSTAMP:20260421T113212
CREATED:20250226T162618Z
LAST-MODIFIED:20250404T085948Z
UID:3336-1755216000-1755475199@newlenoxcrossroads.com
SUMMARY:Great Lakes Select Championships
DESCRIPTION:Unlock your future in baseball at the Perfect Game Prospect Gateway event! This is your prime opportunity to showcase your skills before college and MLB scouts. Register now to compete against top-tier talent\, elevate your player profile\, and gain invaluable exposure. Don’t miss this chance to step through the gateway to your baseball dreams – sign up today and make your mark.
URL:https://newlenoxcrossroads.com/event/great-lakes-select-championships/
ATTACH;FMTTYPE=image/png:https://newlenoxcrossroads.com/wp-content/uploads/2025/02/image-4.png
END:VEVENT
BEGIN:VEVENT
DTSTART;VALUE=DATE:20250808
DTEND;VALUE=DATE:20250811
DTSTAMP:20260421T113212
CREATED:20250514T154045Z
LAST-MODIFIED:20250528T154354Z
UID:3957-1754611200-1754870399@newlenoxcrossroads.com
SUMMARY:Game Day USA Baseball - All-Star Weekend
DESCRIPTION:Game Day USA is excited to bring the nation’s largest All-Star Weekend series to New Lenox! Modeled after Major League Baseball All-Star Weekend festivities\, our ASW features instruction led by former Major Leaguers\, skills and tournament competition and unique awards. Players enroll as individuals and are placed on teams. The best players receive a Golden Ticket invitation to BaseballFest or an invite to the Junior All-American Games.
URL:https://newlenoxcrossroads.com/event/game-day-usa-all-star-weekend/
ATTACH;FMTTYPE=image/png:https://newlenoxcrossroads.com/wp-content/uploads/2025/02/logo-All-Star-Weekend-2025-scaled.png
END:VEVENT
BEGIN:VEVENT
DTSTART;VALUE=DATE:20250808
DTEND;VALUE=DATE:20250811
DTSTAMP:20260421T113212
CREATED:20250226T162246Z
LAST-MODIFIED:20250521T163758Z
UID:3334-1754611200-1754870399@newlenoxcrossroads.com
SUMMARY:Game Day USA Softball - All-Star Weekend
DESCRIPTION:Game Day USA Softball is excited to bring its All-Star Weekend to New Lenox! The event features an Opening Ceremony\, instruction led by current and former collegiate softball players\, skills and tournament competition and unique awards. Players enroll as individuals and are placed on teams. The best players at All-Star Weekend receive a Golden Ticket invitation to SoftballFest in Panama City Beach\, Florida.
URL:https://newlenoxcrossroads.com/event/event-2/
ATTACH;FMTTYPE=image/png:https://newlenoxcrossroads.com/wp-content/uploads/2025/02/logo-All-Star-Weekend-2025-scaled.png
END:VEVENT
BEGIN:VEVENT
DTSTART;VALUE=DATE:20250801
DTEND;VALUE=DATE:20250804
DTSTAMP:20260421T113212
CREATED:20250514T154224Z
LAST-MODIFIED:20250521T163646Z
UID:3959-1754006400-1754265599@newlenoxcrossroads.com
SUMMARY:Softball Youth All-American Games
DESCRIPTION:The Softball Youth All-American Games event offers an unparalleled opportunity for top players to play alongside talented athletes from several different states. Players enroll as individuals and are placed on teams for the weekend. They receive two jerseys and a commemorative ring\, and compete in a tournament setting. The best players at All-American Games have the opportunity to be selected for SY Elite teams that compete in various national events.
URL:https://newlenoxcrossroads.com/event/softball-youth-all-american-games/
ATTACH;FMTTYPE=image/png:https://newlenoxcrossroads.com/wp-content/uploads/2025/02/Logo-SY-All-American-Games-scaled.png
END:VEVENT
BEGIN:VEVENT
DTSTART;VALUE=DATE:20250801
DTEND;VALUE=DATE:20250804
DTSTAMP:20260421T113212
CREATED:20250226T162123Z
LAST-MODIFIED:20250521T160541Z
UID:3331-1754006400-1754265599@newlenoxcrossroads.com
SUMMARY:Baseball Youth All-American Games
DESCRIPTION:The Baseball Youth All-American Games event offers an unparalleled opportunity for top players to play alongside talented athletes from several different states. Players enroll as individuals and are placed on teams for the weekend. They receive two jerseys and a commemorative ring\, and compete in a tournament setting. The best players at All-American Games have the opportunity to be selected for BY Elite teams that compete in various national events.
URL:https://newlenoxcrossroads.com/event/event-1/
ATTACH;FMTTYPE=image/png:https://newlenoxcrossroads.com/wp-content/uploads/2025/02/Logo-BY-All-American-Games-scaled.png
END:VEVENT
BEGIN:VEVENT
DTSTART;VALUE=DATE:20250723
DTEND;VALUE=DATE:20250729
DTSTAMP:20260421T113212
CREATED:20250226T161913Z
LAST-MODIFIED:20250404T085613Z
UID:3328-1753228800-1753747199@newlenoxcrossroads.com
SUMMARY:Great Lakes Select Championship
DESCRIPTION:Don’t miss the Perfect Game Great Lakes Select Championship this July! This is your opportunity to shine before top college and MLB scouts. Register now to compete against elite talent\, elevate your player profile\, and make a powerful statement. Seize this moment to showcase your skills and take your baseball aspirations to the next level. Sign up today!
URL:https://newlenoxcrossroads.com/event/future-stars-summer-games/
ATTACH;FMTTYPE=image/png:https://newlenoxcrossroads.com/wp-content/uploads/2025/02/Picture4.png
END:VEVENT
BEGIN:VEVENT
DTSTART;TZID=America/Chicago:20250716T080000
DTEND;TZID=America/Chicago:20250720T170000
DTSTAMP:20260421T113212
CREATED:20250226T171245Z
LAST-MODIFIED:20250404T085446Z
UID:3391-1752652800-1753030800@newlenoxcrossroads.com
SUMMARY:Future Stars Summer Games
DESCRIPTION:Dominate the diamond this July at the USSSA Future Stars Summer Games! This is your prime opportunity to display your skills to college scouts and make a lasting impression. Register now to elevate your player profile and gain the edge you need. Don’t just play – make your mark and seize the moment. Sign up today and show them what you’re made of!
URL:https://newlenoxcrossroads.com/event/future-stars-summer-games-2/
ATTACH;FMTTYPE=image/png:https://newlenoxcrossroads.com/wp-content/uploads/2025/02/Picture3.png
END:VEVENT
BEGIN:VEVENT
DTSTART;VALUE=DATE:20250710
DTEND;VALUE=DATE:20250715
DTSTAMP:20260421T113212
CREATED:20250226T161758Z
LAST-MODIFIED:20250404T084947Z
UID:3326-1752105600-1752537599@newlenoxcrossroads.com
SUMMARY:WWBA Great Lakes regional
DESCRIPTION:Compete in the July Regional Championship by Perfect Game USA! This is your chance to showcase your talent to top college and MLB scouts. Register now to prove your skills\, elevate your player profile\, and potentially secure your future in baseball. Don’t miss this crucial regional championship – seize your moment!
URL:https://newlenoxcrossroads.com/event/wwba-great-lakes-regional/
ATTACH;FMTTYPE=image/png:https://newlenoxcrossroads.com/wp-content/uploads/2025/02/Picture2.png
END:VEVENT
BEGIN:VEVENT
DTSTART;VALUE=DATE:20250703
DTEND;VALUE=DATE:20250708
DTSTAMP:20260421T113212
CREATED:20250226T161630Z
LAST-MODIFIED:20250403T124326Z
UID:3324-1751500800-1751932799@newlenoxcrossroads.com
SUMMARY:Invitational National Championships
DESCRIPTION:The Perfect Game Invitational National Championship is a prestigious youth baseball tournament that attracts top talent from across the country. These events are designed to provide players with national exposure\, social media visibility\, and opportunities to improve their player rankings\, making them highly appealing to college coaches and scouts.
URL:https://newlenoxcrossroads.com/event/invitational-national-championships/
ATTACH;FMTTYPE=image/png:https://newlenoxcrossroads.com/wp-content/uploads/2025/02/Picture1.png
END:VEVENT
END:VCALENDAR