BEGIN:VCALENDAR
VERSION:2.0
PRODID:-//Crossroads Sports Complex - ECPv6.15.20//NONSGML v1.0//EN
CALSCALE:GREGORIAN
METHOD:PUBLISH
X-ORIGINAL-URL:https://newlenoxcrossroads.com
X-WR-CALDESC:Events for Crossroads Sports Complex
REFRESH-INTERVAL;VALUE=DURATION:PT1H
X-Robots-Tag:noindex
X-PUBLISHED-TTL:PT1H
BEGIN:VTIMEZONE
TZID:America/Chicago
BEGIN:DAYLIGHT
TZOFFSETFROM:-0600
TZOFFSETTO:-0500
TZNAME:CDT
DTSTART:20250309T080000
END:DAYLIGHT
BEGIN:STANDARD
TZOFFSETFROM:-0500
TZOFFSETTO:-0600
TZNAME:CST
DTSTART:20251102T070000
END:STANDARD
BEGIN:DAYLIGHT
TZOFFSETFROM:-0600
TZOFFSETTO:-0500
TZNAME:CDT
DTSTART:20260308T080000
END:DAYLIGHT
BEGIN:STANDARD
TZOFFSETFROM:-0500
TZOFFSETTO:-0600
TZNAME:CST
DTSTART:20261101T070000
END:STANDARD
BEGIN:DAYLIGHT
TZOFFSETFROM:-0600
TZOFFSETTO:-0500
TZNAME:CDT
DTSTART:20270314T080000
END:DAYLIGHT
BEGIN:STANDARD
TZOFFSETFROM:-0500
TZOFFSETTO:-0600
TZNAME:CST
DTSTART:20271107T070000
END:STANDARD
END:VTIMEZONE
BEGIN:VEVENT
DTSTART;VALUE=DATE:20261023
DTEND;VALUE=DATE:20261026
DTSTAMP:20260421T134250
CREATED:20260206T143825Z
LAST-MODIFIED:20260206T143825Z
UID:4225-1792713600-1792972799@newlenoxcrossroads.com
SUMMARY:LEGENDS LACROSSE
DESCRIPTION:
URL:https://newlenoxcrossroads.com/event/legends-lacrosse/
CATEGORIES:LaCrosse
ATTACH;FMTTYPE=image/png:https://newlenoxcrossroads.com/wp-content/uploads/2026/02/legends-lacross.png
END:VEVENT
BEGIN:VEVENT
DTSTART;VALUE=DATE:20261114
DTEND;VALUE=DATE:20261116
DTSTAMP:20260421T134250
CREATED:20260206T143943Z
LAST-MODIFIED:20260206T143943Z
UID:4226-1794614400-1794787199@newlenoxcrossroads.com
SUMMARY:MIDWEST ELITE TOP 80 SHOWCASE
DESCRIPTION:The Midwest Elite Top 80 is back in 2026 and at the Crossroads Sports Complex in New Lenox\, IL.  Teams will be formed off individual registrations and compete in two games each day with drills and technique clinics lead by the college coaches in attendance.
URL:https://newlenoxcrossroads.com/event/midwest-elite-top-80-showcase/
CATEGORIES:LaCrosse
ATTACH;FMTTYPE=image/png:https://newlenoxcrossroads.com/wp-content/uploads/2026/02/midewest-elite.png
END:VEVENT
END:VCALENDAR