BEGIN:VCALENDAR
VERSION:2.0
PRODID:-//Crossroads Sports Complex - ECPv6.15.20//NONSGML v1.0//EN
CALSCALE:GREGORIAN
METHOD:PUBLISH
X-WR-CALNAME:Crossroads Sports Complex
X-ORIGINAL-URL:https://newlenoxcrossroads.com
X-WR-CALDESC:Events for Crossroads Sports Complex
REFRESH-INTERVAL;VALUE=DURATION:PT1H
X-Robots-Tag:noindex
X-PUBLISHED-TTL:PT1H
BEGIN:VTIMEZONE
TZID:America/Chicago
BEGIN:DAYLIGHT
TZOFFSETFROM:-0600
TZOFFSETTO:-0500
TZNAME:CDT
DTSTART:20250309T080000
END:DAYLIGHT
BEGIN:STANDARD
TZOFFSETFROM:-0500
TZOFFSETTO:-0600
TZNAME:CST
DTSTART:20251102T070000
END:STANDARD
BEGIN:DAYLIGHT
TZOFFSETFROM:-0600
TZOFFSETTO:-0500
TZNAME:CDT
DTSTART:20260308T080000
END:DAYLIGHT
BEGIN:STANDARD
TZOFFSETFROM:-0500
TZOFFSETTO:-0600
TZNAME:CST
DTSTART:20261101T070000
END:STANDARD
BEGIN:DAYLIGHT
TZOFFSETFROM:-0600
TZOFFSETTO:-0500
TZNAME:CDT
DTSTART:20270314T080000
END:DAYLIGHT
BEGIN:STANDARD
TZOFFSETFROM:-0500
TZOFFSETTO:-0600
TZNAME:CST
DTSTART:20271107T070000
END:STANDARD
END:VTIMEZONE
BEGIN:VEVENT
DTSTART;VALUE=DATE:20260501
DTEND;VALUE=DATE:20260504
DTSTAMP:20260421T052442
CREATED:20260205T213947Z
LAST-MODIFIED:20260205T213947Z
UID:4205-1777593600-1777852799@newlenoxcrossroads.com
SUMMARY:PG WINDY CITY WORLD SERIES
DESCRIPTION:Step onto the national stage at the inaugural PG Windy City World Series — a marquee event designed to bring together elite youth baseball talent from across the Midwest. Taking place May 1–3\, this event welcomes teams in the 9U–14U divisions\, with AA\, AAA\, and Open levels to ensure competitive balance for every program.
URL:https://newlenoxcrossroads.com/event/pg-windy-city-world-series/
CATEGORIES:Baseball
ATTACH;FMTTYPE=image/png:https://newlenoxcrossroads.com/wp-content/uploads/2026/02/Regional-World-Series.png
END:VEVENT
BEGIN:VEVENT
DTSTART;VALUE=DATE:20260508
DTEND;VALUE=DATE:20260511
DTSTAMP:20260421T052442
CREATED:20251104T164447Z
LAST-MODIFIED:20260205T214222Z
UID:4127-1778198400-1778457599@newlenoxcrossroads.com
SUMMARY:IL SILVER STATE CHAMPIONSHIPS (SPRING) - ALL STATES WELCOME
DESCRIPTION:Silver State Championships events allow for more parity than Open tournaments\, and allow D2 and D3 level teams to have a greater opportunity to advance to bracket play and bring hardware back to their hometowns. \nAge divisions:  8U-14U 
URL:https://newlenoxcrossroads.com/event/il-silver-state-championships-spring-all-states-welcome/
CATEGORIES:Baseball
ATTACH;FMTTYPE=image/png:https://newlenoxcrossroads.com/wp-content/uploads/2025/11/SilverState.png
END:VEVENT
BEGIN:VEVENT
DTSTART;VALUE=DATE:20260522
DTEND;VALUE=DATE:20260525
DTSTAMP:20260421T052442
CREATED:20260205T214511Z
LAST-MODIFIED:20260205T214511Z
UID:4207-1779408000-1779667199@newlenoxcrossroads.com
SUMMARY:PG WINDY CITY MEMORIAL DAY CLASSIC
DESCRIPTION:Celebrate Memorial Day Weekend with top-tier baseball at the inaugural PG Windy City Memorial Day Classic! Held May 22–24\, this tournament is open to 9U–14U teams across AA\, AAA\, and Open divisions\, offering a competitive and balanced playing field for all levels.
URL:https://newlenoxcrossroads.com/event/pg-windy-city-memorial-day-classic/
CATEGORIES:Baseball
ATTACH;FMTTYPE=image/png:https://newlenoxcrossroads.com/wp-content/uploads/2026/02/Memorial-Day.png
END:VEVENT
BEGIN:VEVENT
DTSTART;VALUE=DATE:20260529
DTEND;VALUE=DATE:20260601
DTSTAMP:20260421T052442
CREATED:20260205T214641Z
LAST-MODIFIED:20260205T214641Z
UID:4208-1780012800-1780271999@newlenoxcrossroads.com
SUMMARY:PG BATTLE FOR THE WINDY CITY
DESCRIPTION:The stage is set for an epic showdown in the Midwest — introducing the inaugural PG Battle for the Windy City! This exciting new event brings together teams from across the region for a high-energy\, high-stakes tournament. \nHeld May 29–31\, this 3-game guarantee tournament is open to age divisions 9U through 17U.
URL:https://newlenoxcrossroads.com/event/pg-battle-for-the-windy-city/
CATEGORIES:Baseball
ATTACH;FMTTYPE=image/png:https://newlenoxcrossroads.com/wp-content/uploads/2026/02/Windy-city-2.png
END:VEVENT
END:VCALENDAR